BEGIN:VCALENDAR
VERSION:2.0
PRODID:-//Spots-BSS - ECPv6.15.20//NONSGML v1.0//EN
CALSCALE:GREGORIAN
METHOD:PUBLISH
X-ORIGINAL-URL:https://spots-bss.com
X-WR-CALDESC:Veranstaltungen für Spots-BSS
REFRESH-INTERVAL;VALUE=DURATION:PT1H
X-Robots-Tag:noindex
X-PUBLISHED-TTL:PT1H
BEGIN:VTIMEZONE
TZID:Europe/Berlin
BEGIN:DAYLIGHT
TZOFFSETFROM:+0100
TZOFFSETTO:+0200
TZNAME:CEST
DTSTART:20250330T010000
END:DAYLIGHT
BEGIN:STANDARD
TZOFFSETFROM:+0200
TZOFFSETTO:+0100
TZNAME:CET
DTSTART:20251026T010000
END:STANDARD
BEGIN:DAYLIGHT
TZOFFSETFROM:+0100
TZOFFSETTO:+0200
TZNAME:CEST
DTSTART:20260329T010000
END:DAYLIGHT
BEGIN:STANDARD
TZOFFSETFROM:+0200
TZOFFSETTO:+0100
TZNAME:CET
DTSTART:20261025T010000
END:STANDARD
BEGIN:DAYLIGHT
TZOFFSETFROM:+0100
TZOFFSETTO:+0200
TZNAME:CEST
DTSTART:20270328T010000
END:DAYLIGHT
BEGIN:STANDARD
TZOFFSETFROM:+0200
TZOFFSETTO:+0100
TZNAME:CET
DTSTART:20271031T010000
END:STANDARD
END:VTIMEZONE
BEGIN:VEVENT
DTSTART;TZID=Europe/Berlin:20260204T090000
DTEND;TZID=Europe/Berlin:20260205T140000
DTSTAMP:20260422T102746
CREATED:20250910T051241Z
LAST-MODIFIED:20251117T184141Z
UID:3956-1770195600-1770300000@spots-bss.com
SUMMARY:Special: Admin Spezial (ich hab nix kaputt gemacht!)
DESCRIPTION:Zielgruppe: Administratoren*Innen\, Keyuser*Innen die sich rund um die Einrichtungen innerhalb von Business Central kümmern plus das Thema „Berechtigungen“ abwickeln. \nThemen: \n\nEin- und Überblick rund um Business Central\nKennenlernen der besonderen „Features“\n\nFunktionsverwaltung & Market Place\n\n\nProfile\nBerechtigungen & Zugriffsreche inklusive Erstellen eigener Berechtigungssätze\nBenutzer\, Benutzer Einrichtung\, Benutzeranpassung\nAufbau eines Konzeptes\, dass Sie in Ihrer Firma dann als Basis nutzen können\nWir starten mit Business Central komplett „neu“… Was ist zu beachten?\nEine Checkliste wäre hilfreich\n\nUnterstützung und mögliche Checklisten für Ihr Unternehmen zusammenstellen\n\n\nProzesse im eigenen Unternehmen?\nGrundlagen rund um BC\n\nFirmendaten\nNummernserien\nVorlagen (Artikel\, Debitor\, Kreditor)\nPLZ-Codes & Länder/Regionen\nEinrichtungen verschiedener Module\n\n\nKlären von Fragen\n\nZusatz: \nBringen Sie gern Ihre Problemstellungen und Fragen mit zu unserer Veranstaltung! Ziel ist es\, dass Sie nach diesem Workshop direkt wieder an Ihren Arbeitsplatz gehen können und das Gelernte für sich umsetzen können. \nDauer: \n1\,5 Tage \nUhrzeit: \nTag 1: 9 – 17 Uhr \nTag 2: 9 – 14 Uhr
URL:https://spots-bss.com/event/special-admin-spezial-ich-hab-nix-kaputt-gemacht-4/
LOCATION:SPOTS-BSS GmbH\, Oslostr. 2\, Dortmund\, NRW\, 44269\, Deutschland
CATEGORIES:Workshop
END:VEVENT
BEGIN:VEVENT
DTSTART;TZID=Europe/Berlin:20260209T090000
DTEND;TZID=Europe/Berlin:20260212T170000
DTSTAMP:20260422T102746
CREATED:20251117T183041Z
LAST-MODIFIED:20251117T183041Z
UID:4490-1770627600-1770915600@spots-bss.com
SUMMARY:Fit for Business Central - BASIS - Kurs für Neuein- und Umsteiger
DESCRIPTION:Zielgruppe:   Gedacht für Neueinsteiger und Umsteiger in Business Central \nThemen: \n\nEin und Überblick rund um Microsoft Dynamics 365 Business Central\nDer Webclient – Kennenlernen der Oberflächen\, „Werkzeuge“ (Suchen\, Filtern\, Sortieren\, etc.) und die allgemeine Handhabung\nCoPilot: erster Einblick\nFibu ist alles – ohne FiBu ist alles nix? Ein Einblick. Inklusive Postenprinzip und Zusammenhänge\nKennen Sie das „SiSo“-Prinzip? Warum die Stammdatenpflege so wichtig ist!\nEinblick in das Thema „Vorlagen“\nEin- und Überblick in das Thema „Beschaffung“ inklusive Beispiele aus dem Einkauf und der Montage\nEin- und Überblick zu dem BC-eigenen Modul Marketing\nEin- und Überblick zu „Verkauf“ -inklusive Beispiele und Abläufe\nErste Schritte im Lager\nKlären von Fragen\n\nReferent:   Sonja Klimke \nDauer:        4 Tage \nUhrzeit:       09 – 17 Uhr \nPreis:          Angebot auf Anfrage \nMin. TN-Zahl:   1 Person
URL:https://spots-bss.com/event/fit-for-business-central-basis-kurs-fuer-neuein-und-umsteiger/
LOCATION:SPOTS-BSS GmbH\, Oslostr. 2\, Dortmund\, NRW\, 44269\, Deutschland
CATEGORIES:Workshop
END:VEVENT
BEGIN:VEVENT
DTSTART;TZID=Europe/Berlin:20260216T090000
DTEND;TZID=Europe/Berlin:20260217T170000
DTSTAMP:20260422T102746
CREATED:20251117T183636Z
LAST-MODIFIED:20251124T060105Z
UID:4496-1771232400-1771347600@spots-bss.com
SUMMARY:Fit for Business Central - Hands On: Lager- & Logistikabläufe mit Business Central
DESCRIPTION:Zielgruppe: alle Anwendenden\, die ihr Wissen rund um die Themen „Lager“ und „Logistik“ vertiefen wollen \nThemen: \n\nAllgemeines rund um Lager & Artikel\n\nArtikelverfolgung (Nachverfolgbarkeit)\nEtiketten\n\n\nUmstrukturierung der Lager in Verbindung mit Business Central\n\nWas sollte beachtet werden?\n\n\nEinrichtung der Module „Lager“ und „Logistik“\nAnlegen von Lagerorten inklusive…\n\nLagerplätze (Lagerplatzinhalte / Optionen innerhalb der Lagerplätze)\nZonen (größere Lagerstruktur und Dynamik)\nVoreinstellungen in der Lagerortkarte plus deren Bedeutungen und Auswirkungen\n\n\nWelche Konstellationen gibt es? Beispiele mit den verschiedenen Lagerkonstellationen in Verbindung mit Einkauf und Verkauf\nInterne Lagerabläufe mit den verschiedenen Konstellationen\n\nBuch-Blätter in Lager und Logistik – wann nutze ich was?\nUmlagerungen – Aufträge oder Buch-Blatt?\nUmlagerungsrouten\n\n\nInventur\nErste Schritte zum Thema „Versand“\nKlären von Fragen\n\nZusatz: \nBringen Sie gern Ihre Problemstellungen und Fragen mit zu unserer Veranstaltung! Ziel ist es\, dass Sie nach diesem Workshop direkt wieder an Ihren Arbeitsplatz gehen können und das Gelernte für sich umsetzen können. \nDauer: 2 Tage \nUhrzeit: 09 – 17 Uhr
URL:https://spots-bss.com/event/fit-for-business-central-hands-on-lager-logistikablaeufe-mit-business-central/
LOCATION:SPOTS-BSS GmbH\, Oslostr. 2\, Dortmund\, NRW\, 44269\, Deutschland
CATEGORIES:Workshop
END:VEVENT
END:VCALENDAR