BEGIN:VCALENDAR
VERSION:2.0
PRODID:-//Spots-BSS - ECPv6.15.20//NONSGML v1.0//EN
CALSCALE:GREGORIAN
METHOD:PUBLISH
X-WR-CALNAME:Spots-BSS
X-ORIGINAL-URL:https://spots-bss.com
X-WR-CALDESC:Veranstaltungen für Spots-BSS
REFRESH-INTERVAL;VALUE=DURATION:PT1H
X-Robots-Tag:noindex
X-PUBLISHED-TTL:PT1H
BEGIN:VTIMEZONE
TZID:Europe/Berlin
BEGIN:DAYLIGHT
TZOFFSETFROM:+0100
TZOFFSETTO:+0200
TZNAME:CEST
DTSTART:20250330T010000
END:DAYLIGHT
BEGIN:STANDARD
TZOFFSETFROM:+0200
TZOFFSETTO:+0100
TZNAME:CET
DTSTART:20251026T010000
END:STANDARD
BEGIN:DAYLIGHT
TZOFFSETFROM:+0100
TZOFFSETTO:+0200
TZNAME:CEST
DTSTART:20260329T010000
END:DAYLIGHT
BEGIN:STANDARD
TZOFFSETFROM:+0200
TZOFFSETTO:+0100
TZNAME:CET
DTSTART:20261025T010000
END:STANDARD
BEGIN:DAYLIGHT
TZOFFSETFROM:+0100
TZOFFSETTO:+0200
TZNAME:CEST
DTSTART:20270328T010000
END:DAYLIGHT
BEGIN:STANDARD
TZOFFSETFROM:+0200
TZOFFSETTO:+0100
TZNAME:CET
DTSTART:20271031T010000
END:STANDARD
END:VTIMEZONE
BEGIN:VEVENT
DTSTART;TZID=Europe/Berlin:20260302T090000
DTEND;TZID=Europe/Berlin:20260305T170000
DTSTAMP:20260422T102536
CREATED:20251117T183142Z
LAST-MODIFIED:20251117T183142Z
UID:4492-1772442000-1772730000@spots-bss.com
SUMMARY:Fit for Business Central - BASIS - Kurs für Neuein- und Umsteiger
DESCRIPTION:Zielgruppe:   Gedacht für Neueinsteiger und Umsteiger in Business Central \nThemen: \n\nEin und Überblick rund um Microsoft Dynamics 365 Business Central\nDer Webclient – Kennenlernen der Oberflächen\, „Werkzeuge“ (Suchen\, Filtern\, Sortieren\, etc.) und die allgemeine Handhabung\nCoPilot: erster Einblick\nFibu ist alles – ohne FiBu ist alles nix? Ein Einblick. Inklusive Postenprinzip und Zusammenhänge\nKennen Sie das „SiSo“-Prinzip? Warum die Stammdatenpflege so wichtig ist!\nEinblick in das Thema „Vorlagen“\nEin- und Überblick in das Thema „Beschaffung“ inklusive Beispiele aus dem Einkauf und der Montage\nEin- und Überblick zu dem BC-eigenen Modul Marketing\nEin- und Überblick zu „Verkauf“ -inklusive Beispiele und Abläufe\nErste Schritte im Lager\nKlären von Fragen\n\nReferent:   Sonja Klimke \nDauer:        4 Tage \nUhrzeit:       09 – 17 Uhr \nPreis:          Angebot auf Anfrage \nMin. TN-Zahl:   1 Person
URL:https://spots-bss.com/event/fit-for-business-central-basis-kurs-fuer-neuein-und-umsteiger-2/
LOCATION:SPOTS-BSS GmbH\, Oslostr. 2\, Dortmund\, NRW\, 44269\, Deutschland
CATEGORIES:Workshop
END:VEVENT
BEGIN:VEVENT
DTSTART;TZID=Europe/Berlin:20260311T090000
DTEND;TZID=Europe/Berlin:20260312T170000
DTSTAMP:20260422T102536
CREATED:20250407T184415Z
LAST-MODIFIED:20251117T183748Z
UID:3712-1773219600-1773334800@spots-bss.com
SUMMARY:Fit for Business Central: HANDS ON: Beschaffung / Schwerpunkt "Einkauf" und "Montage"
DESCRIPTION:Zielgruppe:   alle Anwendenden aus dem Einkauf/Beschaffung \nThemen: \n\nEin- und Überblick rund um das Thema „Beschaffung“ – welche Module gehören dazu?\nStammdaten sind das „A“ und „O“ – der Lieferant\, der Artikel und die Lagerhaltungsdatenkarten\nEinrichten der Planungsparameter bei einem Artikel – welche Optionen gibt es?\nPlanungswerkzeuge\nEinkaufssets/wiederkehrende Einkaufszeilen\nPreislisten für den Einkauf\nAbläufe im Einkauf – Bestellungen\, Lieferungen\, Rechnungen\nReklamationen und (Wert-) gutschriften\nPraxisbeispiele\nKlären von Fragen\n\nReferent:   Sonja Klimke \nDauer:        2 Tage \nUhrzeit:       09 – 17 Uhr \nPreis:          Angebot auf Anfrage \nMin. TN-Zahl:   1 Person \n 
URL:https://spots-bss.com/event/fit-for-business-central-hands-on-beschaffung-schwerpunkt-einkauf-und-montage/
LOCATION:SPOTS-BSS GmbH\, Oslostr. 2\, Dortmund\, NRW\, 44269\, Deutschland
CATEGORIES:Workshop
END:VEVENT
BEGIN:VEVENT
DTSTART;TZID=Europe/Berlin:20260323T090000
DTEND;TZID=Europe/Berlin:20260326T170000
DTSTAMP:20260422T102536
CREATED:20250630T111757Z
LAST-MODIFIED:20251117T183846Z
UID:3745-1774256400-1774544400@spots-bss.com
SUMMARY:Fit for Business Central ADVANCED - rund um Einkauf/Verkauf/Montage/Produktion und Lager
DESCRIPTION:Zielgruppe: Erfahrenere Anwender in Business Central\, die gern das vorhandene Wissen erweitern wollen. \nEs geht um folgende Module: \n\nEinkauf\nMontage / Produktion\nLager / Logistik\nVerkauf\nEinblick in Service\n\nThemen: \n\nEinrichtungen der verschiedenen Module\nKennenlernen der neuen Features mit der aktuellsten BC-Version\nAbläufe im Einkauf anhand praxisbezogener Beispiele\nStammdatenpflege – Artikel\, Kreditor\, Debitor\, Stücklisten\, Arbeitspläne\, usw.\nAbläufe mit Montage und Produktion\nAbläufe im Lager und Logistikbereich mit verschiedenen Lagerortstrukturen\nAbläufe im Verkauf mit verschiedensten praxisbezogenen Fällen\n\ninklusiven Spezialthemen wie z. B. „Miete“\, besondere Dienstleistungen\, usw.\n\n\n\nGeplante Agenda können wir Ihnen gern zukommen lassen. Dieser Workshop „lebt“ aber von Ihren Fällen und Beispielen! \nDauer: 4 Tage \nUhrzeit: 09 – 17 Uhr \nReferent: Sonja Klimke \nGerne erstellen wir ein Angebot für Sie!
URL:https://spots-bss.com/event/fit-for-business-central-advanced-rund-um-einkauf-verkauf-montage-produktion-und-lager/
LOCATION:SPOTS-BSS GmbH\, Oslostr. 2\, Dortmund\, NRW\, 44269\, Deutschland
CATEGORIES:Workshop
END:VEVENT
END:VCALENDAR