BEGIN:VCALENDAR
VERSION:2.0
PRODID:-//Spots-BSS - ECPv6.15.20//NONSGML v1.0//EN
CALSCALE:GREGORIAN
METHOD:PUBLISH
X-ORIGINAL-URL:https://spots-bss.com
X-WR-CALDESC:Veranstaltungen für Spots-BSS
REFRESH-INTERVAL;VALUE=DURATION:PT1H
X-Robots-Tag:noindex
X-PUBLISHED-TTL:PT1H
BEGIN:VTIMEZONE
TZID:Europe/Berlin
BEGIN:DAYLIGHT
TZOFFSETFROM:+0100
TZOFFSETTO:+0200
TZNAME:CEST
DTSTART:20250330T010000
END:DAYLIGHT
BEGIN:STANDARD
TZOFFSETFROM:+0200
TZOFFSETTO:+0100
TZNAME:CET
DTSTART:20251026T010000
END:STANDARD
BEGIN:DAYLIGHT
TZOFFSETFROM:+0100
TZOFFSETTO:+0200
TZNAME:CEST
DTSTART:20260329T010000
END:DAYLIGHT
BEGIN:STANDARD
TZOFFSETFROM:+0200
TZOFFSETTO:+0100
TZNAME:CET
DTSTART:20261025T010000
END:STANDARD
BEGIN:DAYLIGHT
TZOFFSETFROM:+0100
TZOFFSETTO:+0200
TZNAME:CEST
DTSTART:20270328T010000
END:DAYLIGHT
BEGIN:STANDARD
TZOFFSETFROM:+0200
TZOFFSETTO:+0100
TZNAME:CET
DTSTART:20271031T010000
END:STANDARD
END:VTIMEZONE
BEGIN:VEVENT
DTSTART;TZID=Europe/Berlin:20260608T090000
DTEND;TZID=Europe/Berlin:20260611T170000
DTSTAMP:20260420T141547
CREATED:20260224T084737Z
LAST-MODIFIED:20260226T121538Z
UID:4563-1780909200-1781197200@spots-bss.com
SUMMARY:Fit for Business Central: Basiskurs für Ein- und Umsteiger - Business Central V28
DESCRIPTION:Zielgruppe:   alle Anwendenden die neu in die ERP-Lösung „Business Central“ einsteigen und sich einen Rundum-Überblick\nzu dieser Lösung verschaffen wollen und für alle Umsteiger\, die von einer „alten“ NAV/BC-Version kommen. \nThemen: \nTag 1: Allgemeines \n\nERP heute vs. gestern: von einem FiBu-integrierten System inklusive Materialwirtschaft zu einer kompletten Unternehmenslösung\nDas „Herz“ von Business Central und die Zusammenhänge zu den Modulen\nKlären von den Lizenzmöglichkeiten mit Business Central\nKennenlernen der Oberflächen\, Startseiten\, allgemeines „Handwerkzeug“ (Finden von Datensätzen\, Filtern\, Sortieren\, Personalisieren\nvon Masken\, etc.)\nEin- und Überblick zu dem „FiBu-Herz“ inklusive Klären des Postenprinzips und den Zusammenhängen\n\nTag 2: Beschaffung \n\nRund um das Thema „Beschaffung“ – was gehört dazu?\nEin- und Überblick zu den drei wichtigen Modulen\nStammdaten – das „A“ und „O“\n\nEin- und Überblick zu der Artikelkarte inklusive Lagerhaltungsdaten\nArtikelverfolgung (Serien-\, Chargen- oder Paketproduktionsverfolgung)\nDer Kreditor – Einblick\n\n\nAbläufe im Einkauf – von der Anfrage bis zur Rechnung\nEinkaufsreklamation und -gutschriften\nKennenlernen der Montage – ein Überblick\n\nAnlegen eines Artikels inklusive Stückliste\nPraxisbeispiel mit Montageaufträgen\nInformationen zu Ressourcen\n\n\n\nTag 3: Marketing und Verkauf \n\nEin- und Überblick zu den Modulen „Marketing“ und „Verkauf“\nMarketing: Vorteile eines integrierten Marketingmoduls in Business Central\n\nAnlegen von Kontakten\nPraxisbeispiele rund um Kontakte inklusive Kennenlernen der möglichen Segmentierungskriterien\nFragebogen anlegen\nAngebote nur an an Kontakte – inkl. Kennenlernen der Debitorenvorlagen\n\n\nVerkauf: Vom Kontakt zum Debitor\n\nkennenlernen der verschiedenen wichtigen Optionen bei einem Debitor\n\n\nVerkaufsabläufe: vom Angebot über Auftrag bis zur Rechnung\nVerkaufsreklamationen und -gutschriften\nVerkaufspreislisten\nPraxisbeispiele\n\nTag 4: Lager- und Logistikabläufe \n\nEin- und Überblick rund um die Module Lager und Logistik\nWas ist ein Lagerort eigentlich?\n\nAnlage von Lagerortvarianten\nLagerplätze zufügen\n\n\nKennenlernen der verschiedenen Konstellationen (von „einfach“ bis „dynamisch“)\nPraxisbeispiel mit einer Konstellation (die Sie selbst bestimmen)\nKennenlernen der internen Lagerprozesse mithilfe der Buch-/Arbeitsblätter in Business Central\n\nAm letzten Tag: \n\nWissensquiz\n\nReferent:   Sonja Klimke \nDauer:        4 Tage \nUhrzeit:       09 – 17 Uhr \nPreis:          Angebot auf Anfrage \nUnterlage:    Basis-Unterlage zu Business Central inklusive \nMin. TN-Zahl:   1 Person
URL:https://spots-bss.com/event/fit-for-business-central-basiskurs-fuer-alle-neuein-und-umsteiger-in-business-central/
LOCATION:SPOTS-BSS GmbH\, Oslostr. 2\, Dortmund\, NRW\, 44269\, Deutschland
CATEGORIES:Workshop
END:VEVENT
BEGIN:VEVENT
DTSTART;TZID=Europe/Berlin:20260616T090000
DTEND;TZID=Europe/Berlin:20260617T170000
DTSTAMP:20260420T141547
CREATED:20260224T084610Z
LAST-MODIFIED:20260226T121502Z
UID:4561-1781600400-1781715600@spots-bss.com
SUMMARY:Special: Admin Spezial - Business Central und administrative Aufgaben
DESCRIPTION:Zielgruppe: Administratoren*Innen\, Keyuser*Innen die sich rund um die Einrichtungen innerhalb von Business Central kümmern plus das Thema „Berechtigungen“ abwickeln. \nThemen: \n\nEin- und Überblick rund um Business Central\nKennenlernen der besonderen „Features“\n\nFunktionsverwaltung & Market Place\nKI-Funktionen und Agents – Überblick\n\n\nProfile\nBerechtigungen & Zugriffsreche inklusive Erstellen eigener Berechtigungssätze\nBenutzer\, Benutzer Einrichtung\, Benutzeranpassung\nAufbau eines Konzeptes\, dass Sie in Ihrer Firma dann als Basis nutzen können\nWir starten mit Business Central komplett „neu“… Was ist zu beachten?\nEine Checkliste wäre hilfreich\n\nUnterstützung und mögliche Checklisten für Ihr Unternehmen zusammenstellen\n\n\nProzesse im eigenen Unternehmen?\nGrundlagen rund um BC\n\nFirmendaten\nNummernserien\nVorlagen (Artikel\, Debitor\, Kreditor)\nPLZ-Codes & Länder/Regionen\nEinrichtungen verschiedener Module\n\n\nKlären von Fragen\n\nZusatz: \nBringen Sie gern Ihre Problemstellungen und Fragen mit zu unserer Veranstaltung! Ziel ist es\, dass Sie nach diesem Workshop direkt wieder an Ihren Arbeitsplatz gehen können und das Gelernte für sich umsetzen können. \nDauer: \n1\,5 Tage \nUhrzeit: \nTag 1: 9 – 17 Uhr \nTag 2: 9 – 14 Uhr
URL:https://spots-bss.com/event/special-admin-spezial-business-central-und-administrative-aufgaben/
LOCATION:SPOTS-BSS GmbH\, Oslostr. 2\, Dortmund\, NRW\, 44269\, Deutschland
CATEGORIES:Workshop
END:VEVENT
BEGIN:VEVENT
DTSTART;TZID=Europe/Berlin:20260618T100000
DTEND;TZID=Europe/Berlin:20260618T163000
DTSTAMP:20260420T141547
CREATED:20260226T121312Z
LAST-MODIFIED:20260226T121313Z
UID:4576-1781776800-1781800200@spots-bss.com
SUMMARY:U-m-U: Montage vs. Produktion: Was Ihre BC-Version heute schon kann – echte Praxisfälle live
DESCRIPTION:SPOTS-BSS GmbH und dicobis GmbH präsentieren:\n\nUser meets User – „Montage vs. Produktion – Beispiele aus der Praxis mit Business Central (V28)“\n\nErleben Sie live\, wie nah moderne ERP-Lösungen heute an der Realität in Werkhalle und Montageband sind.\nUnter dem Motto „Montage vs. Produktion – Beispiele aus der Praxis“ zeigen wir echte Szenarien aus dem Tagesgeschäft:\nWas hat sich mit der aktuellen Business-Central-Version verändert – und welche neuen Möglichkeiten haben Sie ganz konkret?\nAnhand realer Fälle aus Kundenprojekten beleuchten wir:\n\nTransparente Abläufe von der Planung bis zur Rückmeldung\nFlexible Varianten in Montage und Fertigung\nMehr Effizienz durch automatisierte Workflows und bessere Datenbasis\n\nZusätzlich geben wir einen Einblick\, wie dicobis mit branchenspezifischen Erweiterungen und SPOTS-BSS mit praxisnahen Add-ons\nnoch mehr aus Business Central herausholt – für Prozesse\, die nicht nur funktionieren\, sondern begeistern.\n\nKurz: Weniger Theorie\, mehr „So machen wir das wirklich“.\n\nReferenten: Sonja Klimke (SPOTS-BSS GmbH) und Holger Lüke (dicobis GmbH)\n\nDatum:      Donnerstag\, 18.06.2026\n\nUhrzeit:     10:00 Uhr – 16:30 Uhr\n\nMindestteilnehmer:      4\nMaximalteilnehmer:   16\n\nAnmeldung bitte über diesen Link: U-m-U: Montage vs. Produktion – Beispiele aus der Praxis mit Business Central (V28) – Formular ausfüllen\n\nBetrag:                                69\,00 EUR pro Person netto
URL:https://spots-bss.com/event/u-m-u-montage-vs-produktion-was-ihre-bc-version-heute-schon-kann-echte-praxisfaelle-live/
LOCATION:SPOTS-BSS GmbH\, Oslostr. 2\, Dortmund\, NRW\, 44269\, Deutschland
CATEGORIES:Event,Event in Dortmund
END:VEVENT
BEGIN:VEVENT
DTSTART;TZID=Europe/Berlin:20260622T090000
DTEND;TZID=Europe/Berlin:20260625T170000
DTSTAMP:20260420T141547
CREATED:20260224T084944Z
LAST-MODIFIED:20260226T121351Z
UID:4568-1782118800-1782406800@spots-bss.com
SUMMARY:Fit for Business Central: ADVANCED - rund um Einkauf/Montage/Produktion/Marketing/Verkauf/Lager
DESCRIPTION:Zielgruppe: Erfahrenere Anwender in Business Central\, die gern das vorhandene Wissen erweitern wollen. \nEs geht um folgende Module: \n\nEinkauf\nMontage / Produktion\nLager / Logistik\nVerkauf\nEinblick in Service\n\nThemen: \n\nEinrichtungen der verschiedenen Module\nKennenlernen der neuen Features mit der aktuellsten BC-Version\nAbläufe im Einkauf anhand praxisbezogener Beispiele\nStammdatenpflege – Artikel\, Kreditor\, Debitor\, Stücklisten\, Arbeitspläne\, usw.\nAbläufe mit Montage und Produktion\nAbläufe im Lager und Logistikbereich mit verschiedenen Lagerortstrukturen\nAbläufe im Verkauf mit verschiedensten praxisbezogenen Fällen\n\ninklusiven Spezialthemen wie z. B. „Miete“\, besondere Dienstleistungen\, usw.\n\n\n\nGeplante Agenda können wir Ihnen gern zukommen lassen. Dieser Workshop „lebt“ aber von Ihren Fällen und Beispielen! \nDauer: 4 Tage \nUhrzeit: 09 – 17 Uhr \nReferent: Sonja Klimke \nGerne erstellen wir ein Angebot für Sie!
URL:https://spots-bss.com/event/fit-for-business-central-advanced-rund-um-einkauf-montage-produktion-marketing-verkauf-lager-2/
LOCATION:SPOTS-BSS GmbH\, Oslostr. 2\, Dortmund\, NRW\, 44269\, Deutschland
CATEGORIES:Workshop
END:VEVENT
BEGIN:VEVENT
DTSTART;TZID=Europe/Berlin:20260629T090000
DTEND;TZID=Europe/Berlin:20260702T170000
DTSTAMP:20260420T141547
CREATED:20260224T085310Z
LAST-MODIFIED:20260413T043725Z
UID:4570-1782723600-1783011600@spots-bss.com
SUMMARY:Fit for Business Central: Basiskurs für Ein- und Umsteiger - Business Central V28
DESCRIPTION:Zielgruppe:   alle Anwendenden die neu in die ERP-Lösung „Business Central“ einsteigen und sich einen Rundum-Überblick\nzu dieser Lösung verschaffen wollen und für alle Umsteiger\, die von einer „alten“ NAV/BC-Version kommen. \nThemen: \nTag 1: Allgemeines \n\nERP heute vs. gestern: von einem FiBu-integrierten System inklusive Materialwirtschaft zu einer kompletten Unternehmenslösung\nDas „Herz“ von Business Central und die Zusammenhänge zu den Modulen\nKlären von den Lizenzmöglichkeiten mit Business Central\nKennenlernen der Oberflächen\, Startseiten\, allgemeines „Handwerkzeug“ (Finden von Datensätzen\, Filtern\, Sortieren\, Personalisieren\nvon Masken\, etc.)\nEin- und Überblick zu dem „FiBu-Herz“ inklusive Klären des Postenprinzips und den Zusammenhängen\n\nTag 2: Beschaffung \n\nRund um das Thema „Beschaffung“ – was gehört dazu?\nEin- und Überblick zu den drei wichtigen Modulen\nStammdaten – das „A“ und „O“\n\nEin- und Überblick zu der Artikelkarte inklusive Lagerhaltungsdaten\nArtikelverfolgung (Serien-\, Chargen- oder Paketproduktionsverfolgung)\nDer Kreditor – Einblick\n\n\nAbläufe im Einkauf – von der Anfrage bis zur Rechnung\nEinkaufsreklamation und -gutschriften\nKennenlernen der Montage – ein Überblick\n\nAnlegen eines Artikels inklusive Stückliste\nPraxisbeispiel mit Montageaufträgen\nInformationen zu Ressourcen\n\n\n\nTag 3: Marketing und Verkauf \n\nEin- und Überblick zu den Modulen „Marketing“ und „Verkauf“\nMarketing: Vorteile eines integrierten Marketingmoduls in Business Central\n\nAnlegen von Kontakten\nPraxisbeispiele rund um Kontakte inklusive Kennenlernen der möglichen Segmentierungskriterien\nFragebogen anlegen\nAngebote nur an an Kontakte – inkl. Kennenlernen der Debitorenvorlagen\n\n\nVerkauf: Vom Kontakt zum Debitor\n\nkennenlernen der verschiedenen wichtigen Optionen bei einem Debitor\n\n\nVerkaufsabläufe: vom Angebot über Auftrag bis zur Rechnung\nVerkaufsreklamationen und -gutschriften\nVerkaufspreislisten\nPraxisbeispiele\n\nTag 4: Lager- und Logistikabläufe \n\nEin- und Überblick rund um die Module Lager und Logistik\nWas ist ein Lagerort eigentlich?\n\nAnlage von Lagerortvarianten\nLagerplätze zufügen\n\n\nKennenlernen der verschiedenen Konstellationen (von „einfach“ bis „dynamisch“)\nPraxisbeispiel mit einer Konstellation (die Sie selbst bestimmen)\nKennenlernen der internen Lagerprozesse mithilfe der Buch-/Arbeitsblätter in Business Central\n\nAm letzten Tag: \n\nWissensquiz\n\nReferent:   Sonja Klimke \nDauer:        4 Tage \nUhrzeit:       09 – 17 Uhr \nPreis:          Angebot auf Anfrage \nUnterlage:    Basis-Unterlage zu Business Central inklusive \nMin. TN-Zahl:   1 Person
URL:https://spots-bss.com/event/fit-for-business-central-basiskurs-fuer-ein-und-umsteiger-business-central-v28-2/
LOCATION:SPOTS-BSS GmbH\, Oslostr. 2\, Dortmund\, NRW\, 44269\, Deutschland
CATEGORIES:Workshop
END:VEVENT
END:VCALENDAR