BEGIN:VCALENDAR
VERSION:2.0
PRODID:-//Spots-BSS - ECPv6.15.20//NONSGML v1.0//EN
CALSCALE:GREGORIAN
METHOD:PUBLISH
X-WR-CALNAME:Spots-BSS
X-ORIGINAL-URL:https://spots-bss.com
X-WR-CALDESC:Veranstaltungen für Spots-BSS
REFRESH-INTERVAL;VALUE=DURATION:PT1H
X-Robots-Tag:noindex
X-PUBLISHED-TTL:PT1H
BEGIN:VTIMEZONE
TZID:Europe/Berlin
BEGIN:DAYLIGHT
TZOFFSETFROM:+0100
TZOFFSETTO:+0200
TZNAME:CEST
DTSTART:20250330T010000
END:DAYLIGHT
BEGIN:STANDARD
TZOFFSETFROM:+0200
TZOFFSETTO:+0100
TZNAME:CET
DTSTART:20251026T010000
END:STANDARD
BEGIN:DAYLIGHT
TZOFFSETFROM:+0100
TZOFFSETTO:+0200
TZNAME:CEST
DTSTART:20260329T010000
END:DAYLIGHT
BEGIN:STANDARD
TZOFFSETFROM:+0200
TZOFFSETTO:+0100
TZNAME:CET
DTSTART:20261025T010000
END:STANDARD
BEGIN:DAYLIGHT
TZOFFSETFROM:+0100
TZOFFSETTO:+0200
TZNAME:CEST
DTSTART:20270328T010000
END:DAYLIGHT
BEGIN:STANDARD
TZOFFSETFROM:+0200
TZOFFSETTO:+0100
TZNAME:CET
DTSTART:20271031T010000
END:STANDARD
END:VTIMEZONE
BEGIN:VEVENT
DTSTART;TZID=Europe/Berlin:20260428T090000
DTEND;TZID=Europe/Berlin:20260429T170000
DTSTAMP:20260420T113242
CREATED:20250630T112529Z
LAST-MODIFIED:20251117T183930Z
UID:3749-1777366800-1777482000@spots-bss.com
SUMMARY:Fit for Business Central: Hands-On: Verkauf
DESCRIPTION:Zielgruppe:   alle Anwendenden aus dem Verkauf/Vertriebsbereich \nThemen: \n\nEin- und Überblick rund um den Verkauf – inkl. Einblick in das Marketingmodul\nEinrichtung\nStammdatenpflege ist das „A“ und „O“\n\nRund um den Debitor\nalternative Lieferadressen inklusive alternative UStID\n\n\nPreislisten und Rabattlisten\nwiederkehrende Verkaufszeilen\nAbläufe: vom Angebot bis zur Rechnung\n\ninklusive wiederkehrende Verkaufsrechnungen\n\n\nRahmenaufträge\n\nKennenlernen von den verschiedenen Möglichkeiten mit dem „puren“ Standard\nMiete\n\n\nReklamationen und Gutschriften\nE-Belege im Verkauf\ndiverse Reports rund um den den Verkauf (z. B. Rückstandsauflösung)\nKlären von Fragen und praxisbezogene Beispiele\n\nReferent:   Sonja Klimke \nDauer:        2 Tage
URL:https://spots-bss.com/event/fit-for-business-central-hands-on-verkauf-3/
LOCATION:SPOTS-BSS GmbH\, Oslostr. 2\, Dortmund\, NRW\, 44269\, Deutschland
CATEGORIES:Workshop
END:VEVENT
END:VCALENDAR