BEGIN:VCALENDAR
VERSION:2.0
PRODID:-//Spots-BSS - ECPv6.15.20//NONSGML v1.0//EN
CALSCALE:GREGORIAN
METHOD:PUBLISH
X-ORIGINAL-URL:https://spots-bss.com
X-WR-CALDESC:Veranstaltungen für Spots-BSS
REFRESH-INTERVAL;VALUE=DURATION:PT1H
X-Robots-Tag:noindex
X-PUBLISHED-TTL:PT1H
BEGIN:VTIMEZONE
TZID:Europe/Berlin
BEGIN:DAYLIGHT
TZOFFSETFROM:+0100
TZOFFSETTO:+0200
TZNAME:CEST
DTSTART:20250330T010000
END:DAYLIGHT
BEGIN:STANDARD
TZOFFSETFROM:+0200
TZOFFSETTO:+0100
TZNAME:CET
DTSTART:20251026T010000
END:STANDARD
BEGIN:DAYLIGHT
TZOFFSETFROM:+0100
TZOFFSETTO:+0200
TZNAME:CEST
DTSTART:20260329T010000
END:DAYLIGHT
BEGIN:STANDARD
TZOFFSETFROM:+0200
TZOFFSETTO:+0100
TZNAME:CET
DTSTART:20261025T010000
END:STANDARD
BEGIN:DAYLIGHT
TZOFFSETFROM:+0100
TZOFFSETTO:+0200
TZNAME:CEST
DTSTART:20270328T010000
END:DAYLIGHT
BEGIN:STANDARD
TZOFFSETFROM:+0200
TZOFFSETTO:+0100
TZNAME:CET
DTSTART:20271031T010000
END:STANDARD
END:VTIMEZONE
BEGIN:VEVENT
DTSTART;TZID=Europe/Berlin:20260914T090000
DTEND;TZID=Europe/Berlin:20260915T170000
DTSTAMP:20260423T002632
CREATED:20260413T044912Z
LAST-MODIFIED:20260413T044912Z
UID:4799-1789376400-1789491600@spots-bss.com
SUMMARY:Business Knigge für Auszubildende/Trainees
DESCRIPTION:Zielgruppe: Auszubildende bzw. Trainees\, die neu in das Berufsleben einsteigen \nThemen: \n\nBegrüßung/Vorstellung/Organisatorisches\n\n\n„Wer bist Du?“ 7 Sekunden … der erste Eindruck zählt!\nPräsentiere Dich selbst und erzähle von einer Besonderheit von Dir! (Hobby\, etc.)\nKommunikation vs. Rhetorik\nDer Kommunikationsprozess\nKörpersprache\nFragen gibt es… kennst Du die richtigen Fragen?\nÜbungen rund um das Thema Kommunikation\n\n\nVom Umgang mit Menschen – Höflichkeit und Respekt sind das „a“ und „o“\nHILFE – Kundenkontakt und jetzt?\nVom ersten Kennenlernen bis zum Umgang – am Telefon und persönlich (inkl Übungen)\nTypen gibt es… Kennenlernen verschiedener menschlicher Verhaltensweisen\nKonfliktmanagement & Deeskalation\n\nUmgang mit schwierigen Kunden/Kollegen/Kolleginnen\n\n\nÜbungen\n\nDauer: 1\,5 Tage \nUhrzeit: 09 – 17 Uhr (Tag 1) – 09 – 14 Uhr (Tag 2) \nReferent: Sonja Klimke \nGerne erstellen wir ein Angebot für Sie!
URL:https://spots-bss.com/event/business-knigge-fuer-auszubildende-trainees-2/
LOCATION:SPOTS-BSS GmbH\, Oslostr. 2\, Dortmund\, NRW\, 44269\, Deutschland
CATEGORIES:Workshop
END:VEVENT
END:VCALENDAR