BEGIN:VCALENDAR
VERSION:2.0
PRODID:-//Spots-BSS - ECPv6.15.20//NONSGML v1.0//EN
CALSCALE:GREGORIAN
METHOD:PUBLISH
X-WR-CALNAME:Spots-BSS
X-ORIGINAL-URL:https://spots-bss.com
X-WR-CALDESC:Veranstaltungen für Spots-BSS
REFRESH-INTERVAL;VALUE=DURATION:PT1H
X-Robots-Tag:noindex
X-PUBLISHED-TTL:PT1H
BEGIN:VTIMEZONE
TZID:Europe/Berlin
BEGIN:DAYLIGHT
TZOFFSETFROM:+0100
TZOFFSETTO:+0200
TZNAME:CEST
DTSTART:20250330T010000
END:DAYLIGHT
BEGIN:STANDARD
TZOFFSETFROM:+0200
TZOFFSETTO:+0100
TZNAME:CET
DTSTART:20251026T010000
END:STANDARD
BEGIN:DAYLIGHT
TZOFFSETFROM:+0100
TZOFFSETTO:+0200
TZNAME:CEST
DTSTART:20260329T010000
END:DAYLIGHT
BEGIN:STANDARD
TZOFFSETFROM:+0200
TZOFFSETTO:+0100
TZNAME:CET
DTSTART:20261025T010000
END:STANDARD
BEGIN:DAYLIGHT
TZOFFSETFROM:+0100
TZOFFSETTO:+0200
TZNAME:CEST
DTSTART:20270328T010000
END:DAYLIGHT
BEGIN:STANDARD
TZOFFSETFROM:+0200
TZOFFSETTO:+0100
TZNAME:CET
DTSTART:20271031T010000
END:STANDARD
END:VTIMEZONE
BEGIN:VEVENT
DTSTART;TZID=Europe/Berlin:20260928T090000
DTEND;TZID=Europe/Berlin:20260929T170000
DTSTAMP:20260420T140319
CREATED:20260413T045121Z
LAST-MODIFIED:20260413T045121Z
UID:4798-1790586000-1790701200@spots-bss.com
SUMMARY:HANDS ON: Einkauf mit Business Central/V28
DESCRIPTION:Zielgruppe:   alle Anwendenden aus dem Einkauf/Beschaffung \nThemen: \n\nEin- und Überblick rund um das Thema „Beschaffung“ – welche Module gehören dazu?\nStammdaten sind das „A“ und „O“ – der Lieferant\, der Artikel und die Lagerhaltungsdatenkarten\n\nKreditoren – was gilt zu beachten? (Auch im Hinblick auf das Thema „Elektronische Rechnungen“)\nRund um den Artikel – warum die „GTIN“ und die Artikelreferenzen so wichtig sind\n\ninkl. Einrichten der Planungsparameter bei einem Artikel – welche Optionen gibt es?\nLagerhaltungsdaten sind ein „Muss“!\n\n\n\n\nPlanungswerkzeuge (Kennenlernen der Bestell- und Planungsarbeitsblätter\, Auftragsplanung & Bedarfsplanung)\nEinkaufssets/wiederkehrende Einkaufszeilen\nPreislisten für den Einkauf\nAbläufe im Einkauf – Bestellungen\, Lieferungen\, Rechnungen\nReklamationen und (Wert-) gutschriften\nPraxisbeispiele\nKlären von Fragen\n\nReferent:   Sonja Klimke \nDauer:        2 Tage \nUhrzeit:       09 – 17 Uhr \nPreis:          Angebot auf Anfrage \nMin. TN-Zahl:   1 Person \nUnterlage:  Einkauf mit Business Central
URL:https://spots-bss.com/event/hands-on-einkauf-mit-business-central-v28/
LOCATION:SPOTS-BSS GmbH\, Oslostr. 2\, Dortmund\, NRW\, 44269\, Deutschland
CATEGORIES:Workshop
END:VEVENT
END:VCALENDAR